BEGIN:VCALENDAR
VERSION:2.0
PRODID:-//Forum des Peuples Racines - ECPv6.10.2//NONSGML v1.0//EN
CALSCALE:GREGORIAN
METHOD:PUBLISH
X-ORIGINAL-URL:https://forumpeuplesracines.org
X-WR-CALDESC:Évènements pour Forum des Peuples Racines
REFRESH-INTERVAL;VALUE=DURATION:PT1H
X-Robots-Tag:noindex
X-PUBLISHED-TTL:PT1H
BEGIN:VTIMEZONE
TZID:Europe/Paris
BEGIN:DAYLIGHT
TZOFFSETFROM:+0100
TZOFFSETTO:+0200
TZNAME:CEST
DTSTART:20250330T010000
END:DAYLIGHT
BEGIN:STANDARD
TZOFFSETFROM:+0200
TZOFFSETTO:+0100
TZNAME:CET
DTSTART:20251026T010000
END:STANDARD
END:VTIMEZONE
BEGIN:VEVENT
DTSTART;VALUE=DATE:20250919
DTEND;VALUE=DATE:20250929
DTSTAMP:20260420T005601
CREATED:20250304T083008Z
LAST-MODIFIED:20250919T095041Z
UID:10000022-1758240000-1759103999@forumpeuplesracines.org
SUMMARY:Exposition photos Hommage de Franck Desplanques
DESCRIPTION:Entrée libre (gratuit)En partenariat avec l’émission Rendez-vous en Terre Inconnue et la revue Natives \nHoraires d’ouverture : 11h30 – 19h30 du lundi au vendredi 10h00 – 19h30 samedi et dimanche \n					\n									Faire un don
URL:https://forumpeuplesracines.org/evenement/exposition-photos-hommage-de-franck-desplanques-en-partenariat-avec-lemission-rendez-vous-en-terre-inconnue-et-la-revue-natives/
LOCATION:L’Aubette\, 31 Pl. Kléber\, Strasbourg
CATEGORIES:Billet
ATTACH;FMTTYPE=image/png:https://forumpeuplesracines.org/wp-content/uploads/2025/08/franck-desplanques.png
END:VEVENT
BEGIN:VEVENT
DTSTART;TZID=Europe/Paris:20250927T200000
DTEND;TZID=Europe/Paris:20250927T220000
DTSTAMP:20260420T005601
CREATED:20250306T090022Z
LAST-MODIFIED:20250820T074815Z
UID:10000020-1759003200-1759010400@forumpeuplesracines.org
SUMMARY:Concert humanitaire au profit de Mazava et Soa Kanto Malagasy
DESCRIPTION:Une soirée pour replanter demain dans le grand sud malgache !\nTalike Gellé\, autrice\, compositrice\, chanteuse et danseuse\, est originaire d’Ifotake\, petit vilage du sud de Madagascar\, et se réclame de l’ethnie « Antandroy ».\nAccompagnée par son complice de toujours\, Seva Berto\, issu de l’ethnie voisine “Antanosy”\, ils fusionnent les rythmes traditionnels de cette région de l’île\, en les enrichissant de diverses techniques telles que le Gagnaoke (chant de la forêt)\, l’exécution de sons gutturaux\, le Drimotse (raclement de gorge qui donne un son de percussion)\, le Dabo-tratra (battements percussifs de la poitrine) et le Jera-fe (battements percussifs des jambes). Les bénéfices de ce concert financeront les actions de Mazava et de Soa Kanto Malagasy\, deux associations partenaires pour un grand projet de régénération végétale dans cet extrême sud aride et en proie à la crise climatique :\n– Création de deux pépinières dont les plantules seront distribuées à des villageois préalablement formés aux techniques de reboisement.\n– Création de deux sites expérimentaux de forêt nourricière. \nConcert le 27 septembre 2025 à 20h à l’Aubette\, dans le cadre du Forum des Peuples Racines.\nEntrée : 15 euros\nOrganisateurs : Mazava Vent et Soleil de Madagascar\, AlterNatives\, l’association humanitaire Ligne Verte Terre de Paix
URL:https://forumpeuplesracines.org/evenement/concert-humanitaire-au-profit-de-mazava-et-soa-kanto-malagasy/
LOCATION:L’Aubette\, 31 Pl. Kléber\, Strasbourg
CATEGORIES:Billet
ATTACH;FMTTYPE=image/jpeg:https://forumpeuplesracines.org/wp-content/uploads/2025/07/talike.jpg
END:VEVENT
END:VCALENDAR